BEGIN:VCALENDAR
VERSION:2.0
PRODID:-//Intand Corporation//Tandem//EN
METHOD:PUBLISH
BEGIN:VEVENT
DTSTAMP:20260424T203027Z
DTSTART:20220131T230000Z
DTEND:20220201T003000Z
TRANSP:TRANSPARENT
PRIORITY:0
SUMMARY:Basketball\, C Team Girls Atrisco Heritage at Volcano Vista
LOCATION:Volcano Vista High
DESCRIPTION:Groups:\nVolcano Vista High Basketball Girls C\nAtrisco Herita
 ge Academy Basketball Girls C\n\nSchools:\nAtrisco Heritage Academy\nVolca
 no Vista High\n\nLocation:\nVolcano Vista High\n\n
URL;VALUE=URI:http://aha.albuquerquenmus.tandem.co/index.php?type=view&act
 ion=event&id=100168
CREATED:20220124T203313Z
LAST-MODIFIED:20220124T203714Z
UID:event-100168-albuquerquenmus@intand.com
END:VEVENT
END:VCALENDAR
