BEGIN:VCALENDAR
VERSION:2.0
PRODID:-//Intand Corporation//Tandem//EN
METHOD:PUBLISH
BEGIN:VEVENT
DTSTAMP:20260424T203027Z
DTSTART:20220225T003000Z
DTEND:20220225T020000Z
TRANSP:TRANSPARENT
PRIORITY:0
SUMMARY:Basketball\, Varsity Boys Dist 1AAAAA Rio Rancho at Atrisco Herita
 ge
LOCATION:Atrisco Heritage Academy
DESCRIPTION:Groups:\nAtrisco Heritage Academy Basketball Boys Varsity\n\nS
 chools:\nAtrisco Heritage Academy\n\nLocation:\nAtrisco Heritage Academy\n
 \n
URL;VALUE=URI:http://aha.albuquerquenmus.tandem.co/index.php?type=view&act
 ion=event&id=100555
CREATED:20220223T184101Z
LAST-MODIFIED:20220224T153206Z
UID:event-100555-albuquerquenmus@intand.com
END:VEVENT
END:VCALENDAR
