BEGIN:VCALENDAR
VERSION:2.0
PRODID:-//Intand Corporation//Tandem//EN
METHOD:PUBLISH
BEGIN:VEVENT
DTSTAMP:20260424T203108Z
DTSTART:20121019T003000Z
DTEND:20121019T020000Z
TRANSP:TRANSPARENT
PRIORITY:0
SUMMARY:Volleyball\, Varsity: VHS @ AHA 
LOCATION:Atrisco Heritage Academy
DESCRIPTION:Groups:\nAtrisco Heritage Academy Volleyball Varsity\nValley H
 igh Volleyball Varsity\n\nSchools:\nAtrisco Heritage Academy\nValley High\
 n\nLocation:\nAtrisco Heritage Academy\n\n
URL;VALUE=URI:http://aha.albuquerquenmus.tandem.co/index.php?type=view&act
 ion=event&id=33315
CREATED:20120111T231308Z
LAST-MODIFIED:20120828T193738Z
UID:event-33315-albuquerquenmus@intand.com
END:VEVENT
END:VCALENDAR
