BEGIN:VCALENDAR
VERSION:2.0
PRODID:-//Intand Corporation//Tandem//EN
METHOD:PUBLISH
BEGIN:VEVENT
DTSTAMP:20260424T184932Z
DTSTART;VALUE=DATE:20121103
DTEND;VALUE=DATE:20121104
TRANSP:TRANSPARENT
PRIORITY:0
SUMMARY:APS JV Volleyball Tournament
LOCATION:Atrisco Heritage Academy
DESCRIPTION:Groups:\nWest Mesa High Volleyball JV\nVolcano Vista High Voll
 eyball JV\nValley High Volleyball JV\nSandia High Volleyball JV\nRio Grand
 e High Volleyball JV\nManzano High Volleyball JV\nLa Cueva High Volleyball
  JV\nHighland High Volleyball JV\nEldorado High Volleyball JV\nDel Norte H
 igh Volleyball JV\nCibola High Volleyball JV\nAtrisco Heritage Academy Vol
 leyball JV\nAlbuquerque High Volleyball JV\n\nSchools:\nAtrisco Heritage A
 cademy\nCibola High\nLa Cueva High\nValley High\nSandia High\nRio Grande H
 igh\nAlbuquerque High\nEldorado High\nHighland High\nManzano High\nWest Me
 sa High\nVolcano Vista High\nDel Norte High\n\nLocation:\nAtrisco Heritage
  Academy\n\n
X-ALT-DESC;FMTTYPE=text/html:<!doctype html><html><body>Groups:<br />West 
 Mesa High Volleyball JV<br />Volcano Vista High Volleyball JV<br />Valley 
 High Volleyball JV<br />Sandia High Volleyball JV<br />Rio Grande High Vol
 leyball JV<br />Manzano High Volleyball JV<br />La Cueva High Volleyball J
 V<br />Highland High Volleyball JV<br />Eldorado High Volleyball JV<br />D
 el Norte High Volleyball JV<br />Cibola High Volleyball JV<br />Atrisco He
 ritage Academy Volleyball JV<br />Albuquerque High Volleyball JV<br /><br 
 />Schools:<br />Atrisco Heritage Academy<br />Cibola High<br />La Cueva Hi
 gh<br />Valley High<br />Sandia High<br />Rio Grande High<br />Albuquerque
  High<br />Eldorado High<br />Highland High<br />Manzano High<br />West Me
 sa High<br />Volcano Vista High<br />Del Norte High<br /><br />Location:<b
 r />Atrisco Heritage Academy<br />Attachments:<br /><a href="http://aha.al
 buquerquenmus.tandem.co/index.php?type=export&action=file&id=1522">2012  J
 V Tournament  Volleyball Bracket.xls</a><br /></body></html>
URL;VALUE=URI:http://aha.albuquerquenmus.tandem.co/index.php?type=view&act
 ion=event&id=34673
CREATED:20120405T155954Z
LAST-MODIFIED:20121103T030844Z
UID:event-34673-albuquerquenmus@intand.com
END:VEVENT
END:VCALENDAR
