BEGIN:VCALENDAR
VERSION:2.0
PRODID:-//Intand Corporation//Tandem//EN
METHOD:PUBLISH
BEGIN:VEVENT
DTSTAMP:20260424T202805Z
DTSTART:20120929T173000Z
DTEND:20120929T183000Z
TRANSP:TRANSPARENT
PRIORITY:0
SUMMARY:Volleyball\, C-Team: SHS @ AHA 
LOCATION:Atrisco Heritage Academy
DESCRIPTION:Groups:\nSandia High Volleyball C\nAtrisco Heritage Academy Vo
 lleyball C\n\nSchools:\nAtrisco Heritage Academy\nSandia High\n\nLocation:
 \nAtrisco Heritage Academy\n\n
URL;VALUE=URI:http://aha.albuquerquenmus.tandem.co/index.php?type=view&act
 ion=event&id=35528
CREATED:20120417T031912Z
LAST-MODIFIED:20120417T031912Z
UID:event-35528-albuquerquenmus@intand.com
END:VEVENT
END:VCALENDAR
