BEGIN:VCALENDAR
VERSION:2.0
PRODID:-//Intand Corporation//Tandem//EN
METHOD:PUBLISH
BEGIN:VEVENT
DTSTAMP:20260424T203027Z
DTSTART:20210430T220000Z
DTEND:20210501T000000Z
TRANSP:TRANSPARENT
PRIORITY:0
SUMMARY:Diving\, Varsity-B&G: Valley Quad
LOCATION:Betsy Patterson Pool at Sandia High School 
DESCRIPTION:Groups:\nAlbuquerque High Dive Boys\nAlbuquerque High Dive Gir
 ls\nAtrisco Heritage Academy Dive Boys\nAtrisco Heritage Academy Dive Girl
 s\nHighland High Dive Boys\nHighland High Dive Girls\nValley High Dive Boy
 s\nValley High Dive Girls\n\nSchools:\nAPS Athletic Department\nAtrisco He
 ritage Academy\nValley High\nAlbuquerque High\nHighland High\n\nLocation:\
 nBetsy Patterson Pool at Sandia High School \n\n
URL;VALUE=URI:http://aha.albuquerquenmus.tandem.co/index.php?type=view&act
 ion=event&id=93538
CREATED:20210331T140631Z
LAST-MODIFIED:20210331T140631Z
UID:event-93538-albuquerquenmus@intand.com
END:VEVENT
END:VCALENDAR
