BEGIN:VCALENDAR
VERSION:2.0
PRODID:-//Intand Corporation//Tandem//EN
METHOD:PUBLISH
BEGIN:VEVENT
DTSTAMP:20260424T190041Z
DTSTART:20210420T220000Z
DTEND:20210421T000000Z
TRANSP:TRANSPARENT
PRIORITY:0
SUMMARY:Baseball\, Varsity: MHS @ AHA
LOCATION:Atrisco Heritage Academy
DESCRIPTION:Groups:\nAtrisco Heritage Academy Baseball Varsity\nManzano Hi
 gh Baseball Boys Varsity\n\nSchools:\nAtrisco Heritage Academy\nManzano Hi
 gh\n\nLocation:\nAtrisco Heritage Academy\n\n
URL;VALUE=URI:http://aha.albuquerquenmus.tandem.co/index.php?type=view&act
 ion=event&id=93824
CREATED:20210406T021053Z
LAST-MODIFIED:20210406T021053Z
UID:event-93824-albuquerquenmus@intand.com
END:VEVENT
END:VCALENDAR
