BEGIN:VCALENDAR
VERSION:2.0
PRODID:-//Intand Corporation//Tandem//EN
METHOD:PUBLISH
BEGIN:VEVENT
DTSTAMP:20260424T190033Z
DTSTART:20210521T220000Z
DTEND:20210522T000000Z
TRANSP:TRANSPARENT
PRIORITY:0
SUMMARY:Baseball\, Varsity: AHA @ VVHS
LOCATION:Volcano Vista High
DESCRIPTION:Groups:\nAtrisco Heritage Academy Baseball Varsity\nVolcano Vi
 sta High Baseball Boys Varsity\n\nSchools:\nAtrisco Heritage Academy\nVolc
 ano Vista High\n\nLocation:\nVolcano Vista High\n\n
URL;VALUE=URI:http://aha.albuquerquenmus.tandem.co/index.php?type=view&act
 ion=event&id=93885
CREATED:20210406T024943Z
LAST-MODIFIED:20210406T024943Z
UID:event-93885-albuquerquenmus@intand.com
END:VEVENT
END:VCALENDAR
