BEGIN:VCALENDAR
VERSION:2.0
PRODID:-//Intand Corporation//Tandem//EN
METHOD:PUBLISH
BEGIN:VEVENT
DTSTAMP:20260424T202806Z
DTSTART;VALUE=DATE:20220131
DTEND;VALUE=DATE:20220201
TRANSP:TRANSPARENT
PRIORITY:0
SUMMARY:Practice Start Date: Baseball
LOCATION:APS Athletic Department
DESCRIPTION:Groups:\nAlbuquerque High Baseball C\nAlbuquerque High Basebal
 l JV\nAlbuquerque High Baseball Varsity\nAtrisco Heritage Academy Baseball
  C\nAtrisco Heritage Academy Baseball JV\nAtrisco Heritage Academy Basebal
 l Varsity\nCibola High Baseball C\nCibola High Baseball JV\nCibola High Ba
 seball Varsity\nDel Norte High Baseball  JV\nDel Norte High Baseball C\nDe
 l Norte High Baseball Varsity\nEldorado High Baseball C\nEldorado High Bas
 eball JV\nEldorado High Baseball Varsity\nHighland High Baseball Boys JV\n
 Highland High Baseball Boys Varsity\nHighland High Baseball C\nLa Cueva Hi
 gh Baseball Boys JV\nLa Cueva High Baseball Boys Varsity\nLa Cueva High Ba
 seball C\nManzano High Baseball Boys JV\nManzano High Baseball Boys Varsit
 y\nManzano High Baseball C\nRio Grande High Baseball Boys JV\nRio Grande H
 igh Baseball Boys Varsity\nRio Grande High Baseball C\nSandia High Basebal
 l Boys JV\nSandia High Baseball Boys Varsity\nSandia High Baseball C\nVall
 ey High Baseball Boys JV\nValley High Baseball Boys Varsity\nValley High B
 aseball C\nVolcano Vista High Baseball Boys JV\nVolcano Vista High Basebal
 l Boys Varsity\nVolcano Vista High Baseball C\nWest Mesa High Baseball Boy
 s JV\nWest Mesa High Baseball Boys Varsity\nWest Mesa High Baseball C\n\nS
 chools:\nAtrisco Heritage Academy\nCibola High\nLa Cueva High\nValley High
 \nSandia High\nRio Grande High\nAlbuquerque High\nEldorado High\nHighland 
 High\nManzano High\nWest Mesa High\nVolcano Vista High\nDel Norte High\n\n
 Location:\nAPS Athletic Department\n\n
URL;VALUE=URI:http://aha.albuquerquenmus.tandem.co/index.php?type=view&act
 ion=event&id=96320
CREATED:20210730T173631Z
LAST-MODIFIED:20210730T173631Z
UID:event-96320-albuquerquenmus@intand.com
END:VEVENT
END:VCALENDAR
