BEGIN:VCALENDAR
VERSION:2.0
PRODID:-//Intand Corporation//Tandem//EN
METHOD:PUBLISH
BEGIN:VEVENT
DTSTAMP:20260424T185011Z
DTSTART;VALUE=DATE:20211106
DTEND;VALUE=DATE:20211107
TRANSP:TRANSPARENT
PRIORITY:0
SUMMARY:NMAA State Championship: Cross Country
LOCATION:Albuquerque Academy High
DESCRIPTION:Click to view NMAA Sport Information Page.    Cross Country\n\
 nSetup: TBD\nBreakdown: TBD\n\nDepart: TBD\nReturn: TBD\n\nGroups:\nAlbuqu
 erque High Cross Country\nAtrisco Heritage Academy Cross Country\nCibola H
 igh Cross Country\nDel Norte High Cross Country\nEldorado High Cross Count
 ry\nHighland High Cross Country\nLa Cueva High Cross Country\nManzano High
  Cross Country\nRio Grande High Cross Country\nSandia High Cross Country\n
 Valley High Cross Country\nVolcano Vista High Cross Country\nWest Mesa Hig
 h Cross Country\n\nSchools:\nAtrisco Heritage Academy\nCibola High\nLa Cue
 va High\nValley High\nSandia High\nRio Grande High\nAlbuquerque High\nEldo
 rado High\nHighland High\nManzano High\nWest Mesa High\nVolcano Vista High
 \nAlbuquerque Academy High\nDel Norte High\n\nLocation:\nAlbuquerque Acade
 my High\n\n
URL;VALUE=URI:http://aha.albuquerquenmus.tandem.co/index.php?type=view&act
 ion=event&id=96359
CREATED:20210804T195634Z
LAST-MODIFIED:20210804T195634Z
UID:event-96359-albuquerquenmus@intand.com
END:VEVENT
END:VCALENDAR
