BEGIN:VCALENDAR
VERSION:2.0
PRODID:-//Intand Corporation//Tandem//EN
METHOD:PUBLISH
BEGIN:VEVENT
DTSTAMP:20260424T190042Z
DTSTART;VALUE=DATE:20220305
DTEND;VALUE=DATE:20220306
TRANSP:TRANSPARENT
PRIORITY:0
SUMMARY:NMAA State Championship: Boys Basketball 1st Round
LOCATION:APS Athletic Department
DESCRIPTION:Click to view State Championship Brackets  Boys 4A Bracket Boy
 s 5A Bracket\n\nSetup: TBD\nBreakdown: TBD\n\nDepart: TBD\nReturn: TBD\n\n
 Groups:\nAlbuquerque High Basketball Boys Varsity\nAtrisco Heritage Academ
 y Basketball Boys Varsity\nCibola High Basketball Boys Varsity\nDel Norte 
 High Basketball Boys Varsity\nEldorado High Basketball Boys Varsity\nHighl
 and High Basketball Boys Varsity\nLa Cueva High Basketball Boys Varsity\nM
 anzano High Basketball Boys Varsity\nRio Grande High Basketball Boys Varsi
 ty\nSandia High Basketball Boys Varsity\nValley High Basketball Boys Varsi
 ty\nVolcano Vista High Basketball Boys Varsity\nWest Mesa High Basketball 
 Boys Varsity\n\nSchools:\nAtrisco Heritage Academy\nCibola High\nLa Cueva 
 High\nValley High\nSandia High\nRio Grande High\nAlbuquerque High\nEldorad
 o High\nHighland High\nManzano High\nWest Mesa High\nVolcano Vista High\nD
 el Norte High\n\nLocation:\nAPS Athletic Department\n\n
X-ALT-DESC;FMTTYPE=text/html:<!doctype html><html><body>Click to view Stat
 e Championship Brackets  <a href="http://www.maxpreps.com/tournament/Ig2AH
 DEtEemAzYoOhE8Jsg/Ig2AijEtEemAzYoOhE8Jsg/basketball-winter-18-19/2019-nmaa
 -state-basketball-championships-class-4a---boys.htm">Boys 4A Bracket</a> <
 a href="http://www.maxpreps.com/tournament/Ig2AHDEtEemAzYoOhE8Jsg/Ig2AQjEt
 EemAzYoOhE8Jsg/basketball-winter-18-19/2019-nmaa-state-basketball-champion
 ships-class-5a---boys.htm">Boys 5A Bracket</a><a href="http://www.maxpreps
 .com/tournament/cV-lTDEvEemAzYoOhE8Jsg/cV-ldTEvEemAzYoOhE8Jsg/girls-basket
 ball-winter-18-19/2019--nmaa-state-basketball-championships--class-5a---gi
 rls.htm"></a><br /><br />Setup: TBD<br />Breakdown: TBD<br /><br />Depart:
  TBD<br />Return: TBD<br /><br />Groups:<br />Albuquerque High Basketball 
 Boys Varsity<br />Atrisco Heritage Academy Basketball Boys Varsity<br />Ci
 bola High Basketball Boys Varsity<br />Del Norte High Basketball Boys Vars
 ity<br />Eldorado High Basketball Boys Varsity<br />Highland High Basketba
 ll Boys Varsity<br />La Cueva High Basketball Boys Varsity<br />Manzano Hi
 gh Basketball Boys Varsity<br />Rio Grande High Basketball Boys Varsity<br
  />Sandia High Basketball Boys Varsity<br />Valley High Basketball Boys Va
 rsity<br />Volcano Vista High Basketball Boys Varsity<br />West Mesa High 
 Basketball Boys Varsity<br /><br />Schools:<br />Atrisco Heritage Academy<
 br />Cibola High<br />La Cueva High<br />Valley High<br />Sandia High<br /
 >Rio Grande High<br />Albuquerque High<br />Eldorado High<br />Highland Hi
 gh<br />Manzano High<br />West Mesa High<br />Volcano Vista High<br />Del 
 Norte High<br /><br />Location:<br />APS Athletic Department<br /></body><
 /html>
URL;VALUE=URI:http://aha.albuquerquenmus.tandem.co/index.php?type=view&act
 ion=event&id=96371
CREATED:20210804T203034Z
LAST-MODIFIED:20210804T203034Z
UID:event-96371-albuquerquenmus@intand.com
END:VEVENT
END:VCALENDAR
