BEGIN:VCALENDAR
VERSION:2.0
PRODID:-//Intand Corporation//Tandem//EN
METHOD:PUBLISH
BEGIN:VEVENT
DTSTAMP:20260424T185919Z
DTSTART:20220111T230000Z
DTEND:20220112T003000Z
TRANSP:TRANSPARENT
PRIORITY:0
SUMMARY:Basketball\, C-Team-G: AHA @ Belen
LOCATION:Belen High
DESCRIPTION:Groups:\nAtrisco Heritage Academy Basketball Girls C\n\nSchool
 s:\nAtrisco Heritage Academy\nBelen High\n\nLocation:\nBelen High\n\n
URL;VALUE=URI:http://aha.albuquerquenmus.tandem.co/index.php?type=view&act
 ion=event&id=97169
CREATED:20211022T024619Z
LAST-MODIFIED:20211022T024619Z
UID:event-97169-albuquerquenmus@intand.com
END:VEVENT
END:VCALENDAR
