BEGIN:VCALENDAR
VERSION:2.0
PRODID:-//Intand Corporation//Tandem//EN
METHOD:PUBLISH
BEGIN:VEVENT
DTSTAMP:20260424T185918Z
DTSTART:20220118T230000Z
DTEND:20220119T003000Z
TRANSP:TRANSPARENT
PRIORITY:0
SUMMARY:[Cancelled] Basketball\, C-Team-G: AHA @ CHS
LOCATION:Cibola High
DESCRIPTION:Groups:\nAtrisco Heritage Academy Basketball Girls C\nCibola H
 igh Basketball Girls C\n\nSchools:\nAtrisco Heritage Academy\nCibola High\
 n\nLocation:\nCibola High\n\n
URL;VALUE=URI:http://aha.albuquerquenmus.tandem.co/index.php?type=view&act
 ion=event&id=97189
CREATED:20211022T031517Z
LAST-MODIFIED:20220118T182521Z
UID:event-97189-albuquerquenmus@intand.com
END:VEVENT
END:VCALENDAR
