BEGIN:VCALENDAR
VERSION:2.0
PRODID:-//Intand Corporation//Tandem//EN
METHOD:PUBLISH
BEGIN:VEVENT
DTSTAMP:20260424T185920Z
DTSTART:20220208T230000Z
DTEND:20220209T003000Z
TRANSP:TRANSPARENT
PRIORITY:0
SUMMARY:Basketball\, C-Team-G: AHA @ Rio Rancho
LOCATION:Rio Rancho High School
DESCRIPTION:Groups:\nAtrisco Heritage Academy Basketball Girls C\n\nSchool
 s:\nAtrisco Heritage Academy\nRio Rancho High School\n\nLocation:\nRio Ran
 cho High School\n\n
URL;VALUE=URI:http://aha.albuquerquenmus.tandem.co/index.php?type=view&act
 ion=event&id=97249
CREATED:20211022T041400Z
LAST-MODIFIED:20211022T041400Z
UID:event-97249-albuquerquenmus@intand.com
END:VEVENT
END:VCALENDAR
