BEGIN:VCALENDAR
VERSION:2.0
PRODID:-//Intand Corporation//Tandem//EN
METHOD:PUBLISH
BEGIN:VEVENT
DTSTAMP:20260424T190133Z
DTSTART:20220219T020000Z
DTEND:20220219T033000Z
TRANSP:TRANSPARENT
PRIORITY:0
SUMMARY:Basketball\, Varsity-B: AHA @ VVHS
LOCATION:Volcano Vista High
DESCRIPTION:Groups:\nAtrisco Heritage Academy Basketball Boys Varsity\nVol
 cano Vista High Basketball Boys Varsity\n\nSchools:\nAtrisco Heritage Acad
 emy\nVolcano Vista High\n\nLocation:\nVolcano Vista High\n\n
URL;VALUE=URI:http://aha.albuquerquenmus.tandem.co/index.php?type=view&act
 ion=event&id=98211
CREATED:20211024T182118Z
LAST-MODIFIED:20211024T182118Z
UID:event-98211-albuquerquenmus@intand.com
END:VEVENT
END:VCALENDAR
