BEGIN:VCALENDAR
VERSION:2.0
PRODID:-//Intand Corporation//Tandem//EN
METHOD:PUBLISH
BEGIN:VEVENT
DTSTAMP:20260424T203107Z
DTSTART:20220126T230000Z
DTEND:20220127T003000Z
TRANSP:TRANSPARENT
PRIORITY:0
SUMMARY:JV Boys Basketball Atrisco Heritage vs Rio Grande @ Valley High Sc
 hool
LOCATION:Valley High
DESCRIPTION:Groups:\nRio Grande High Basketball Boys JV (Home)\nAtrisco He
 ritage Academy Basketball Boys JV (Away)\n\nSchools:\nAtrisco Heritage Aca
 demy (Neutral)\nValley High (Neutral)\nRio Grande High (Neutral)\n\nLocati
 on:\nValley High\n\n
URL;VALUE=URI:http://aha.albuquerquenmus.tandem.co/index.php?type=view&act
 ion=event&id=98713
CREATED:20211231T172618Z
LAST-MODIFIED:20220117T154944Z
UID:event-98713-albuquerquenmus@intand.com
END:VEVENT
END:VCALENDAR
