BEGIN:VCALENDAR
VERSION:2.0
PRODID:-//Intand Corporation//Tandem//EN
METHOD:PUBLISH
BEGIN:VEVENT
DTSTAMP:20260424T184929Z
DTSTART:20220330T000000Z
DTEND:20220330T020000Z
TRANSP:TRANSPARENT
PRIORITY:0
SUMMARY:Baseball\, Varsity: Atrisco Heritage at Rio Rancho
LOCATION:Rio Rancho High School
DESCRIPTION:Groups:\nAtrisco Heritage Academy Baseball Varsity\n\nSchools:
 \nAtrisco Heritage Academy\nRio Rancho High School\n\nLocation:\nRio Ranch
 o High School\n\n
URL;VALUE=URI:http://aha.albuquerquenmus.tandem.co/index.php?type=view&act
 ion=event&id=99141
CREATED:20220111T153203Z
LAST-MODIFIED:20220307T221714Z
UID:event-99141-albuquerquenmus@intand.com
END:VEVENT
END:VCALENDAR
