BEGIN:VCALENDAR
VERSION:2.0
PRODID:-//Intand Corporation//Tandem//EN
METHOD:PUBLISH
BEGIN:VEVENT
DTSTAMP:20260424T184931Z
DTSTART:20220207T230000Z
DTEND:20220208T003000Z
TRANSP:TRANSPARENT
PRIORITY:0
SUMMARY:Basketball\, C Team Girls Atrisco Heritage at Cibola
LOCATION:Cibola High
DESCRIPTION:Groups:\nCibola High Basketball Girls C\nAtrisco Heritage Acad
 emy Basketball Girls C\n\nSchools:\nAtrisco Heritage Academy\nCibola High\
 n\nLocation:\nCibola High\n\n
URL;VALUE=URI:http://aha.albuquerquenmus.tandem.co/index.php?type=view&act
 ion=event&id=99561
CREATED:20220118T175849Z
LAST-MODIFIED:20220118T182818Z
UID:event-99561-albuquerquenmus@intand.com
END:VEVENT
END:VCALENDAR
